Package: crisprShiny Version: 1.4.0 Command: /Library/Frameworks/R.framework/Resources/bin/R CMD build --keep-empty-dirs --no-resave-data crisprShiny StartedAt: 2025-04-21 16:26:00 -0400 (Mon, 21 Apr 2025) EndedAt: 2025-04-21 16:27:01 -0400 (Mon, 21 Apr 2025) EllapsedTime: 60.6 seconds RetCode: 0 Status: OK PackageFile: crisprShiny_1.4.0.tar.gz PackageFileSize: 1.581 MiB