Package: crisprShiny Version: 1.4.0 Command: rm -rf crisprShiny.buildbin-libdir && mkdir crisprShiny.buildbin-libdir && /Users/biocbuild/BBS/utils/build-universal.sh crisprShiny_1.4.0.tar.gz /Library/Frameworks/R.framework/Resources/bin/R crisprShiny.buildbin-libdir StartedAt: 2025-04-21 22:31:22 -0400 (Mon, 21 Apr 2025) EndedAt: 2025-04-21 22:31:44 -0400 (Mon, 21 Apr 2025) EllapsedTime: 22.4 seconds RetCode: 0 Status: OK PackageFile: crisprShiny_1.4.0.tgz PackageFileSize: 1.29 MiB