Package: crisprDesign Version: 1.10.0 Command: rm -rf crisprDesign.buildbin-libdir && mkdir crisprDesign.buildbin-libdir && E:\biocbuild\bbs-3.21-bioc\R\bin\R.exe CMD INSTALL --build --library=crisprDesign.buildbin-libdir crisprDesign_1.10.0.tar.gz StartedAt: 2025-08-15 09:04:15 -0400 (Fri, 15 Aug 2025) EndedAt: 2025-08-15 09:08:57 -0400 (Fri, 15 Aug 2025) EllapsedTime: 281.4 seconds RetCode: 0 Status: OK PackageFile: crisprDesign_1.10.0.zip PackageFileSize: 3.611 MiB