Package: crisprDesign Version: 1.10.0 Command: /home/biocbuild/bbs-3.21-bioc/R/bin/R CMD check --install=check:crisprDesign.install-out.txt --library=/home/biocbuild/bbs-3.21-bioc/R/site-library --timings crisprDesign_1.10.0.tar.gz StartedAt: 2025-10-15 22:07:18 -0400 (Wed, 15 Oct 2025) EndedAt: 2025-10-15 22:17:14 -0400 (Wed, 15 Oct 2025) EllapsedTime: 595.8 seconds RetCode: 0 Status: OK CheckDir: crisprDesign.Rcheck Warnings: 0