Package: crisprDesign Version: 1.10.0 Command: /Library/Frameworks/R.framework/Resources/bin/R CMD check --install=check:crisprDesign.install-out.txt --library=/Library/Frameworks/R.framework/Resources/library --no-vignettes --timings crisprDesign_1.10.0.tar.gz StartedAt: 2025-10-14 17:41:05 -0400 (Tue, 14 Oct 2025) EndedAt: 2025-10-14 17:52:11 -0400 (Tue, 14 Oct 2025) EllapsedTime: 666.3 seconds RetCode: 0 Status: OK CheckDir: crisprDesign.Rcheck Warnings: 0