Package: crisprDesign Version: 1.10.0 Command: rm -rf crisprDesign.buildbin-libdir && mkdir crisprDesign.buildbin-libdir && /Users/biocbuild/BBS/utils/build-universal.sh crisprDesign_1.10.0.tar.gz /Library/Frameworks/R.framework/Resources/bin/R crisprDesign.buildbin-libdir StartedAt: 2025-10-15 18:02:26 -0400 (Wed, 15 Oct 2025) EndedAt: 2025-10-15 18:03:33 -0400 (Wed, 15 Oct 2025) EllapsedTime: 67.2 seconds RetCode: 0 Status: OK PackageFile: crisprDesign_1.10.0.tgz PackageFileSize: 3.591 MiB