Package: crisprBowtie Version: 1.12.0 Command: /home/biocbuild/R/R/bin/R CMD INSTALL crisprBowtie StartedAt: 2025-10-13 20:46:41 -0000 (Mon, 13 Oct 2025) EndedAt: 2025-10-13 20:47:27 -0000 (Mon, 13 Oct 2025) EllapsedTime: 45.8 seconds RetCode: 0 Status: OK