Package: crisprBowtie Version: 1.12.0 Command: /home/biocbuild/R/R/bin/R CMD build --keep-empty-dirs --no-resave-data crisprBowtie StartedAt: 2025-10-13 23:55:15 -0000 (Mon, 13 Oct 2025) EndedAt: 2025-10-13 23:56:21 -0000 (Mon, 13 Oct 2025) EllapsedTime: 66.0 seconds RetCode: 0 Status: OK PackageFile: crisprBowtie_1.12.0.tar.gz PackageFileSize: 386.6 KiB