Package: crisprBowtie Version: 1.12.0 Command: /Library/Frameworks/R.framework/Resources/bin/R CMD INSTALL crisprBowtie StartedAt: 2025-10-13 16:53:26 -0400 (Mon, 13 Oct 2025) EndedAt: 2025-10-13 16:54:02 -0400 (Mon, 13 Oct 2025) EllapsedTime: 36.4 seconds RetCode: 0 Status: OK