Package: cqn Version: 1.54.0 Command: E:\biocbuild\bbs-3.21-bioc\R\bin\R.exe CMD check --no-multiarch --install=check:cqn.install-out.txt --library=E:\biocbuild\bbs-3.21-bioc\R\library --no-vignettes --timings cqn_1.54.0.tar.gz StartedAt: 2025-08-15 00:58:54 -0400 (Fri, 15 Aug 2025) EndedAt: 2025-08-15 00:59:59 -0400 (Fri, 15 Aug 2025) EllapsedTime: 65.9 seconds RetCode: 0 Status: OK CheckDir: cqn.Rcheck Warnings: 0