Package: cqn Version: 1.54.0 Command: /home/biocbuild/bbs-3.21-bioc/R/bin/R CMD check --install=check:cqn.install-out.txt --library=/home/biocbuild/bbs-3.21-bioc/R/site-library --timings cqn_1.54.0.tar.gz StartedAt: 2025-10-15 22:06:02 -0400 (Wed, 15 Oct 2025) EndedAt: 2025-10-15 22:06:57 -0400 (Wed, 15 Oct 2025) EllapsedTime: 55.1 seconds RetCode: 0 Status: OK CheckDir: cqn.Rcheck Warnings: 0