Package: cqn Version: 1.54.0 Command: /Library/Frameworks/R.framework/Resources/bin/R CMD INSTALL cqn StartedAt: 2025-10-13 15:10:11 -0400 (Mon, 13 Oct 2025) EndedAt: 2025-10-13 15:10:42 -0400 (Mon, 13 Oct 2025) EllapsedTime: 31.1 seconds RetCode: 0 Status: OK