Package: cqn Version: 1.54.0 Command: /home/biocbuild/R/R/bin/R CMD INSTALL cqn StartedAt: 2025-10-13 20:15:53 -0000 (Mon, 13 Oct 2025) EndedAt: 2025-10-13 20:16:08 -0000 (Mon, 13 Oct 2025) EllapsedTime: 14.7 seconds RetCode: 0 Status: OK