Package: cpvSNP Version: 1.40.0 Command: E:\biocbuild\bbs-3.21-bioc\R\bin\R.exe CMD check --no-multiarch --install=check:cpvSNP.install-out.txt --library=E:\biocbuild\bbs-3.21-bioc\R\library --no-vignettes --timings cpvSNP_1.40.0.tar.gz StartedAt: 2025-08-15 00:58:43 -0400 (Fri, 15 Aug 2025) EndedAt: 2025-08-15 01:05:43 -0400 (Fri, 15 Aug 2025) EllapsedTime: 419.4 seconds RetCode: 0 Status: OK CheckDir: cpvSNP.Rcheck Warnings: 0