Package: cpvSNP Version: 1.40.0 Command: rm -rf cpvSNP.buildbin-libdir && mkdir cpvSNP.buildbin-libdir && E:\biocbuild\bbs-3.21-bioc\R\bin\R.exe CMD INSTALL --build --library=cpvSNP.buildbin-libdir cpvSNP_1.40.0.tar.gz StartedAt: 2025-08-15 09:04:05 -0400 (Fri, 15 Aug 2025) EndedAt: 2025-08-15 09:05:03 -0400 (Fri, 15 Aug 2025) EllapsedTime: 57.7 seconds RetCode: 0 Status: OK PackageFile: cpvSNP_1.40.0.zip PackageFileSize: 2.352 MiB