Package: cpvSNP Version: 1.40.0 Command: /home/biocbuild/R/R/bin/R CMD INSTALL cpvSNP StartedAt: 2025-10-13 20:58:10 -0000 (Mon, 13 Oct 2025) EndedAt: 2025-10-13 20:59:06 -0000 (Mon, 13 Oct 2025) EllapsedTime: 56.5 seconds RetCode: 0 Status: OK