Package: cpvSNP Version: 1.40.0 Command: /home/biocbuild/R/R/bin/R CMD build --keep-empty-dirs --no-resave-data cpvSNP StartedAt: 2025-10-13 23:54:06 -0000 (Mon, 13 Oct 2025) EndedAt: 2025-10-13 23:55:32 -0000 (Mon, 13 Oct 2025) EllapsedTime: 86.0 seconds RetCode: 0 Status: OK PackageFile: cpvSNP_1.40.0.tar.gz PackageFileSize: 1.992 MiB