Package: covRNA Version: 1.34.0 Command: E:\biocbuild\bbs-3.21-bioc\R\bin\R.exe CMD check --no-multiarch --install=check:covRNA.install-out.txt --library=E:\biocbuild\bbs-3.21-bioc\R\library --no-vignettes --timings covRNA_1.34.0.tar.gz StartedAt: 2025-08-15 00:58:19 -0400 (Fri, 15 Aug 2025) EndedAt: 2025-08-15 01:03:08 -0400 (Fri, 15 Aug 2025) EllapsedTime: 289.9 seconds RetCode: 0 Status: OK CheckDir: covRNA.Rcheck Warnings: 0