Package: covRNA Version: 1.34.0 Command: chmod a+r covRNA -R && E:\biocbuild\bbs-3.21-bioc\R\bin\R.exe CMD build --keep-empty-dirs --no-resave-data covRNA StartedAt: 2025-08-14 18:16:34 -0400 (Thu, 14 Aug 2025) EndedAt: 2025-08-14 18:17:46 -0400 (Thu, 14 Aug 2025) EllapsedTime: 72.1 seconds RetCode: 0 Status: OK PackageFile: covRNA_1.34.0.tar.gz PackageFileSize: 519.6 KiB