Package: covRNA Version: 1.34.0 Command: rm -rf covRNA.buildbin-libdir && mkdir covRNA.buildbin-libdir && E:\biocbuild\bbs-3.21-bioc\R\bin\R.exe CMD INSTALL --build --library=covRNA.buildbin-libdir covRNA_1.34.0.tar.gz StartedAt: 2025-08-15 09:04:02 -0400 (Fri, 15 Aug 2025) EndedAt: 2025-08-15 09:04:25 -0400 (Fri, 15 Aug 2025) EllapsedTime: 23.2 seconds RetCode: 0 Status: OK PackageFile: covRNA_1.34.0.zip PackageFileSize: 560.2 KiB