Package: covRNA Version: 1.34.0 Command: /Library/Frameworks/R.framework/Resources/bin/R CMD check --install=check:covRNA.install-out.txt --library=/Library/Frameworks/R.framework/Resources/library --no-vignettes --timings covRNA_1.34.0.tar.gz StartedAt: 2025-10-14 02:03:30 -0400 (Tue, 14 Oct 2025) EndedAt: 2025-10-14 02:11:18 -0400 (Tue, 14 Oct 2025) EllapsedTime: 467.2 seconds RetCode: 0 Status: OK CheckDir: covRNA.Rcheck Warnings: 0