Package: covRNA Version: 1.34.0 Command: rm -rf covRNA.buildbin-libdir && mkdir covRNA.buildbin-libdir && /Users/biocbuild/BBS/utils/build-universal.sh covRNA_1.34.0.tar.gz /Library/Frameworks/R.framework/Resources/bin/R covRNA.buildbin-libdir StartedAt: 2025-10-14 13:08:29 -0400 (Tue, 14 Oct 2025) EndedAt: 2025-10-14 13:09:12 -0400 (Tue, 14 Oct 2025) EllapsedTime: 43.0 seconds RetCode: 0 Status: OK PackageFile: covRNA_1.34.0.tgz PackageFileSize: 591.5 KiB