Package: covRNA Version: 1.34.0 Command: /Library/Frameworks/R.framework/Resources/bin/R CMD INSTALL covRNA StartedAt: 2025-04-21 15:09:47 -0400 (Mon, 21 Apr 2025) EndedAt: 2025-04-21 15:09:55 -0400 (Mon, 21 Apr 2025) EllapsedTime: 8.0 seconds RetCode: 0 Status: OK