Package: covRNA Version: 1.34.0 Command: rm -rf covRNA.buildbin-libdir && mkdir covRNA.buildbin-libdir && /Users/biocbuild/BBS/utils/build-universal.sh covRNA_1.34.0.tar.gz /Library/Frameworks/R.framework/Resources/bin/R covRNA.buildbin-libdir StartedAt: 2025-10-15 18:01:17 -0400 (Wed, 15 Oct 2025) EndedAt: 2025-10-15 18:01:40 -0400 (Wed, 15 Oct 2025) EllapsedTime: 23.7 seconds RetCode: 0 Status: OK PackageFile: covRNA_1.34.0.tgz PackageFileSize: 591.6 KiB