Package: covEB Version: 1.34.0 Command: rm -rf covEB.buildbin-libdir && mkdir covEB.buildbin-libdir && E:\biocbuild\bbs-3.21-bioc\R\bin\R.exe CMD INSTALL --build --library=covEB.buildbin-libdir covEB_1.34.0.tar.gz StartedAt: 2025-08-15 09:03:56 -0400 (Fri, 15 Aug 2025) EndedAt: 2025-08-15 09:04:06 -0400 (Fri, 15 Aug 2025) EllapsedTime: 9.6 seconds RetCode: 0 Status: OK PackageFile: covEB_1.34.0.zip PackageFileSize: 95.77 KiB