Package: covEB Version: 1.34.0 Command: /home/biocbuild/R/R/bin/R CMD check --install=check:covEB.install-out.txt --library=/home/biocbuild/R/R/site-library --no-vignettes --timings covEB_1.34.0.tar.gz StartedAt: 2025-10-14 07:53:36 -0000 (Tue, 14 Oct 2025) EndedAt: 2025-10-14 07:54:34 -0000 (Tue, 14 Oct 2025) EllapsedTime: 58.0 seconds RetCode: 0 Status: OK CheckDir: covEB.Rcheck Warnings: 0