Package: cosmosR Version: 1.16.0 Command: /Library/Frameworks/R.framework/Resources/bin/R CMD check --install=check:cosmosR.install-out.txt --library=/Library/Frameworks/R.framework/Resources/library --no-vignettes --timings cosmosR_1.16.0.tar.gz StartedAt: 2025-10-14 02:01:14 -0400 (Tue, 14 Oct 2025) EndedAt: 2025-10-14 02:03:56 -0400 (Tue, 14 Oct 2025) EllapsedTime: 162.3 seconds RetCode: 0 Status: OK CheckDir: cosmosR.Rcheck Warnings: 0