Package: cosmosR Version: 1.16.0 Command: /Library/Frameworks/R.framework/Resources/bin/R CMD build --keep-empty-dirs --no-resave-data cosmosR StartedAt: 2025-10-13 18:09:31 -0400 (Mon, 13 Oct 2025) EndedAt: 2025-10-13 18:10:11 -0400 (Mon, 13 Oct 2025) EllapsedTime: 39.5 seconds RetCode: 0 Status: OK PackageFile: cosmosR_1.16.0.tar.gz PackageFileSize: 3.365 MiB