Package: cosmosR Version: 1.16.0 Command: rm -rf cosmosR.buildbin-libdir && mkdir cosmosR.buildbin-libdir && /Users/biocbuild/BBS/utils/build-universal.sh cosmosR_1.16.0.tar.gz /Library/Frameworks/R.framework/Resources/bin/R cosmosR.buildbin-libdir StartedAt: 2025-10-14 13:08:00 -0400 (Tue, 14 Oct 2025) EndedAt: 2025-10-14 13:08:21 -0400 (Tue, 14 Oct 2025) EllapsedTime: 21.2 seconds RetCode: 0 Status: OK PackageFile: cosmosR_1.16.0.tgz PackageFileSize: 3.448 MiB