Package: cosmiq Version: 1.42.0 Command: /Library/Frameworks/R.framework/Resources/bin/R CMD INSTALL cosmiq StartedAt: 2025-10-13 16:21:17 -0400 (Mon, 13 Oct 2025) EndedAt: 2025-10-13 16:22:44 -0400 (Mon, 13 Oct 2025) EllapsedTime: 87.6 seconds RetCode: 0 Status: OK