Package: cosmiq Version: 1.42.0 Command: /home/biocbuild/R/R/bin/R CMD check --install=check:cosmiq.install-out.txt --library=/home/biocbuild/R/R/site-library --no-vignettes --timings cosmiq_1.42.0.tar.gz StartedAt: 2025-10-14 07:51:55 -0000 (Tue, 14 Oct 2025) EndedAt: 2025-10-14 07:59:14 -0000 (Tue, 14 Oct 2025) EllapsedTime: 439.3 seconds RetCode: 0 Status: OK CheckDir: cosmiq.Rcheck Warnings: 0