Package: copa Version: 1.76.0 Command: /home/biocbuild/bbs-3.21-bioc/R/bin/R CMD INSTALL copa StartedAt: 2025-10-12 15:13:16 -0400 (Sun, 12 Oct 2025) EndedAt: 2025-10-12 15:13:19 -0400 (Sun, 12 Oct 2025) EllapsedTime: 2.8 seconds RetCode: 0 Status: OK