Package: copa Version: 1.76.0 Command: /home/biocbuild/R/R/bin/R CMD INSTALL copa StartedAt: 2025-10-09 20:25:55 -0000 (Thu, 09 Oct 2025) EndedAt: 2025-10-09 20:25:59 -0000 (Thu, 09 Oct 2025) EllapsedTime: 4.2 seconds RetCode: 0 Status: OK