Package: conumee Version: 1.42.0 Command: /home/biocbuild/bbs-3.21-bioc/R/bin/R CMD check --install=check:conumee.install-out.txt --library=/home/biocbuild/bbs-3.21-bioc/R/site-library --timings conumee_1.42.0.tar.gz StartedAt: 2025-10-15 22:01:21 -0400 (Wed, 15 Oct 2025) EndedAt: 2025-10-15 22:25:58 -0400 (Wed, 15 Oct 2025) EllapsedTime: 1477.8 seconds RetCode: 0 Status: OK CheckDir: conumee.Rcheck Warnings: 0