Package: conumee Version: 1.42.0 Command: /home/biocbuild/bbs-3.21-bioc/R/bin/R CMD build --keep-empty-dirs --no-resave-data conumee StartedAt: 2025-10-15 16:53:59 -0400 (Wed, 15 Oct 2025) EndedAt: 2025-10-15 17:00:04 -0400 (Wed, 15 Oct 2025) EllapsedTime: 364.3 seconds RetCode: 0 Status: OK PackageFile: conumee_1.42.0.tar.gz PackageFileSize: 1.248 MiB