Package: consensusDE Version: 1.26.0 Command: /home/biocbuild/bbs-3.21-bioc/R/bin/R CMD check --install=check:consensusDE.install-out.txt --library=/home/biocbuild/bbs-3.21-bioc/R/site-library --timings consensusDE_1.26.0.tar.gz StartedAt: 2025-10-01 22:04:45 -0400 (Wed, 01 Oct 2025) EndedAt: 2025-10-01 22:10:59 -0400 (Wed, 01 Oct 2025) EllapsedTime: 374.5 seconds RetCode: 0 Status: OK CheckDir: consensusDE.Rcheck Warnings: 0