Package: consensusDE Version: 1.26.0 Command: /Library/Frameworks/R.framework/Resources/bin/R CMD INSTALL consensusDE StartedAt: 2025-10-02 16:36:03 -0400 (Thu, 02 Oct 2025) EndedAt: 2025-10-02 16:37:43 -0400 (Thu, 02 Oct 2025) EllapsedTime: 100.1 seconds RetCode: 0 Status: OK