Package: consensusDE Version: 1.26.0 Command: /Library/Frameworks/R.framework/Resources/bin/R CMD check --install=check:consensusDE.install-out.txt --library=/Library/Frameworks/R.framework/Resources/library --no-vignettes --timings consensusDE_1.26.0.tar.gz StartedAt: 2025-10-03 01:56:53 -0400 (Fri, 03 Oct 2025) EndedAt: 2025-10-03 02:07:33 -0400 (Fri, 03 Oct 2025) EllapsedTime: 639.8 seconds RetCode: 0 Status: OK CheckDir: consensusDE.Rcheck Warnings: 0