Package: consensusDE Version: 1.26.0 Command: /home/biocbuild/R/R/bin/R CMD INSTALL consensusDE StartedAt: 2025-10-13 21:11:29 -0000 (Mon, 13 Oct 2025) EndedAt: 2025-10-13 21:12:37 -0000 (Mon, 13 Oct 2025) EllapsedTime: 68.5 seconds RetCode: 0 Status: OK