Package: consensusDE Version: 1.26.0 Command: /Library/Frameworks/R.framework/Resources/bin/R CMD INSTALL consensusDE StartedAt: 2025-09-29 18:10:44 -0400 (Mon, 29 Sep 2025) EndedAt: 2025-09-29 18:11:41 -0400 (Mon, 29 Sep 2025) EllapsedTime: 56.2 seconds RetCode: 0 Status: OK