Package: consensusDE Version: 1.26.0 Command: /Library/Frameworks/R.framework/Resources/bin/R CMD check --install=check:consensusDE.install-out.txt --library=/Library/Frameworks/R.framework/Resources/library --no-vignettes --timings consensusDE_1.26.0.tar.gz StartedAt: 2025-09-30 17:03:31 -0400 (Tue, 30 Sep 2025) EndedAt: 2025-09-30 17:09:56 -0400 (Tue, 30 Sep 2025) EllapsedTime: 385.0 seconds RetCode: 0 Status: OK CheckDir: consensusDE.Rcheck Warnings: 0