Package: consensusDE Version: 1.26.0 Command: rm -rf consensusDE.buildbin-libdir && mkdir consensusDE.buildbin-libdir && /Users/biocbuild/BBS/utils/build-universal.sh consensusDE_1.26.0.tar.gz /Library/Frameworks/R.framework/Resources/bin/R consensusDE.buildbin-libdir StartedAt: 2025-10-01 17:57:48 -0400 (Wed, 01 Oct 2025) EndedAt: 2025-10-01 17:58:49 -0400 (Wed, 01 Oct 2025) EllapsedTime: 60.4 seconds RetCode: 0 Status: OK PackageFile: consensusDE_1.26.0.tgz PackageFileSize: 1.115 MiB