Package: consensus Version: 1.26.0 Command: /Library/Frameworks/R.framework/Resources/bin/R CMD INSTALL consensus StartedAt: 2025-10-13 15:18:45 -0400 (Mon, 13 Oct 2025) EndedAt: 2025-10-13 15:19:03 -0400 (Mon, 13 Oct 2025) EllapsedTime: 18.9 seconds RetCode: 0 Status: OK