Package: consensus Version: 1.26.0 Command: /Library/Frameworks/R.framework/Resources/bin/R CMD INSTALL consensus StartedAt: 2025-04-21 15:05:40 -0400 (Mon, 21 Apr 2025) EndedAt: 2025-04-21 15:05:44 -0400 (Mon, 21 Apr 2025) EllapsedTime: 3.8 seconds RetCode: 0 Status: OK