Package: consICA Version: 2.6.0 Command: chmod a+r consICA -R && E:\biocbuild\bbs-3.21-bioc\R\bin\R.exe CMD build --keep-empty-dirs --no-resave-data consICA StartedAt: 2025-08-14 18:14:03 -0400 (Thu, 14 Aug 2025) EndedAt: 2025-08-14 18:15:36 -0400 (Thu, 14 Aug 2025) EllapsedTime: 93.3 seconds RetCode: 0 Status: OK PackageFile: consICA_2.6.0.tar.gz PackageFileSize: 3.206 MiB