Package: consICA Version: 2.6.0 Command: rm -rf consICA.buildbin-libdir && mkdir consICA.buildbin-libdir && E:\biocbuild\bbs-3.21-bioc\R\bin\R.exe CMD INSTALL --build --library=consICA.buildbin-libdir consICA_2.6.0.tar.gz StartedAt: 2025-08-15 09:03:07 -0400 (Fri, 15 Aug 2025) EndedAt: 2025-08-15 09:03:51 -0400 (Fri, 15 Aug 2025) EllapsedTime: 44.1 seconds RetCode: 0 Status: OK PackageFile: consICA_2.6.0.zip PackageFileSize: 2.858 MiB