Package: consICA Version: 2.6.0 Command: /home/biocbuild/R/R/bin/R CMD INSTALL consICA StartedAt: 2025-10-13 21:03:07 -0000 (Mon, 13 Oct 2025) EndedAt: 2025-10-13 21:03:55 -0000 (Mon, 13 Oct 2025) EllapsedTime: 48.6 seconds RetCode: 0 Status: OK