Package: condiments Version: 1.16.0 Command: /Library/Frameworks/R.framework/Resources/bin/R CMD INSTALL condiments StartedAt: 2025-10-13 16:47:27 -0400 (Mon, 13 Oct 2025) EndedAt: 2025-10-13 16:48:42 -0400 (Mon, 13 Oct 2025) EllapsedTime: 74.9 seconds RetCode: 0 Status: OK