Package: condiments Version: 1.16.0 Command: /home/biocbuild/R/R/bin/R CMD check --install=check:condiments.install-out.txt --library=/home/biocbuild/R/R/site-library --no-vignettes --timings condiments_1.16.0.tar.gz StartedAt: 2025-10-14 07:46:34 -0000 (Tue, 14 Oct 2025) EndedAt: 2025-10-14 07:55:43 -0000 (Tue, 14 Oct 2025) EllapsedTime: 549.3 seconds RetCode: 0 Status: OK CheckDir: condiments.Rcheck Warnings: 0