Package: comapr Version: 1.12.0 Command: rm -rf comapr.buildbin-libdir && mkdir comapr.buildbin-libdir && E:\biocbuild\bbs-3.21-bioc\R\bin\R.exe CMD INSTALL --build --library=comapr.buildbin-libdir comapr_1.12.0.tar.gz StartedAt: 2025-08-15 09:02:07 -0400 (Fri, 15 Aug 2025) EndedAt: 2025-08-15 09:03:22 -0400 (Fri, 15 Aug 2025) EllapsedTime: 74.8 seconds RetCode: 0 Status: OK PackageFile: comapr_1.12.0.zip PackageFileSize: 776.3 KiB